git_url: https://git.bioconductor.org/packages/Clonality git_branch: devel git_last_commit: 788755f git_last_commit_date: 2022-11-01 11:05:30 -0400 (Tue, 01 Nov 2022) Package: Clonality Version: 1.47.0 Maintainer: Irina Ostrovnaya MaintainerEmail: ostrovni at mskcc.org