Package: CyTOFpower Version: 1.5.0 Command: /home/biocbuild/bbs-3.17-bioc/R/bin/R CMD build --keep-empty-dirs --no-resave-data CyTOFpower StartedAt: 2023-04-12 02:36:07 -0400 (Wed, 12 Apr 2023) EndedAt: 2023-04-12 02:36:14 -0400 (Wed, 12 Apr 2023) EllapsedTime: 7.0 seconds RetCode: 0 Status: OK PackageFile: CyTOFpower_1.5.0.tar.gz PackageFileSize: 312.1 KiB