Package: CyTOFpower Version: 1.5.0 Command: /home/biocbuild/bbs-3.17-bioc/R/bin/R CMD check --install=check:CyTOFpower.install-out.txt --library=/home/biocbuild/bbs-3.17-bioc/R/site-library --timings CyTOFpower_1.5.0.tar.gz StartedAt: 2023-04-12 05:41:56 -0400 (Wed, 12 Apr 2023) EndedAt: 2023-04-12 05:42:56 -0400 (Wed, 12 Apr 2023) EllapsedTime: 60.2 seconds RetCode: 1 Status: ERROR CheckDir: CyTOFpower.Rcheck Warnings: NA