Package: CyTOFpower Version: 1.5.0 Command: /home/biocbuild/bbs-3.17-bioc/R/bin/R CMD INSTALL CyTOFpower StartedAt: 2023-04-12 02:03:37 -0400 (Wed, 12 Apr 2023) EndedAt: 2023-04-12 02:03:47 -0400 (Wed, 12 Apr 2023) EllapsedTime: 10.0 seconds RetCode: 0 Status: OK