Package: DIAlignR Version: 2.7.0 Command: /home/biocbuild/bbs-3.17-bioc/R/bin/R CMD build --keep-empty-dirs --no-resave-data DIAlignR StartedAt: 2023-04-12 02:40:14 -0400 (Wed, 12 Apr 2023) EndedAt: 2023-04-12 02:42:00 -0400 (Wed, 12 Apr 2023) EllapsedTime: 105.3 seconds RetCode: 0 Status: OK PackageFile: DIAlignR_2.7.0.tar.gz PackageFileSize: 4.205 MiB