Package: DIAlignR Version: 2.7.0 Command: /home/biocbuild/bbs-3.17-bioc/R/bin/R CMD check --install=check:DIAlignR.install-out.txt --library=/home/biocbuild/bbs-3.17-bioc/R/site-library --timings DIAlignR_2.7.0.tar.gz StartedAt: 2023-04-12 05:52:41 -0400 (Wed, 12 Apr 2023) EndedAt: 2023-04-12 05:55:49 -0400 (Wed, 12 Apr 2023) EllapsedTime: 188.5 seconds RetCode: 0 Status: OK CheckDir: DIAlignR.Rcheck Warnings: 0