Package: DIAlignR Version: 2.7.0 Command: /home/biocbuild/bbs-3.17-bioc/R/bin/R CMD INSTALL DIAlignR StartedAt: 2023-04-12 01:48:41 -0400 (Wed, 12 Apr 2023) EndedAt: 2023-04-12 01:50:22 -0400 (Wed, 12 Apr 2023) EllapsedTime: 101.1 seconds RetCode: 0 Status: OK