Package: DeepBlueR Version: 1.25.1 Command: /home/biocbuild/bbs-3.17-bioc/R/bin/R CMD build --keep-empty-dirs --no-resave-data DeepBlueR StartedAt: 2023-04-11 16:17:38 -0400 (Tue, 11 Apr 2023) EndedAt: 2023-04-11 16:28:43 -0400 (Tue, 11 Apr 2023) EllapsedTime: 665.3 seconds RetCode: 0 Status: OK PackageFile: DeepBlueR_1.25.1.tar.gz PackageFileSize: 1.623 MiB