Package: DeepBlueR Version: 1.25.1 Command: /home/biocbuild/bbs-3.17-bioc/R/bin/R CMD INSTALL DeepBlueR StartedAt: 2023-04-11 15:25:01 -0400 (Tue, 11 Apr 2023) EndedAt: 2023-04-11 15:25:40 -0400 (Tue, 11 Apr 2023) EllapsedTime: 38.9 seconds RetCode: 0 Status: OK