Package: DeepBlueR Version: 1.25.1 Command: /home/biocbuild/bbs-3.17-bioc/R/bin/R CMD check --install=check:DeepBlueR.install-out.txt --library=/home/biocbuild/bbs-3.17-bioc/R/site-library --timings DeepBlueR_1.25.1.tar.gz StartedAt: 2023-04-12 05:45:46 -0400 (Wed, 12 Apr 2023) EndedAt: 2023-04-12 06:01:38 -0400 (Wed, 12 Apr 2023) EllapsedTime: 952.4 seconds RetCode: 0 Status: OK CheckDir: DeepBlueR.Rcheck Warnings: 0