Package: DominoEffect Version: 1.19.0 Command: /home/biocbuild/bbs-3.17-bioc/R/bin/R CMD build --keep-empty-dirs --no-resave-data DominoEffect StartedAt: 2023-04-12 02:42:29 -0400 (Wed, 12 Apr 2023) EndedAt: 2023-04-12 02:44:01 -0400 (Wed, 12 Apr 2023) EllapsedTime: 92.3 seconds RetCode: 0 Status: OK PackageFile: DominoEffect_1.19.0.tar.gz PackageFileSize: 473.3 KiB