Package: EBarrays Version: 2.63.0 Command: /home/biocbuild/bbs-3.17-bioc/R/bin/R CMD build --keep-empty-dirs --no-resave-data EBarrays StartedAt: 2023-04-12 02:44:01 -0400 (Wed, 12 Apr 2023) EndedAt: 2023-04-12 02:44:19 -0400 (Wed, 12 Apr 2023) EllapsedTime: 18.1 seconds RetCode: 0 Status: OK PackageFile: EBarrays_2.63.0.tar.gz PackageFileSize: 933.8 KiB