Package: EGSEA Version: 1.27.0 Command: /home/biocbuild/bbs-3.17-bioc/R/bin/R CMD build --keep-empty-dirs --no-resave-data EGSEA StartedAt: 2023-04-12 02:44:38 -0400 (Wed, 12 Apr 2023) EndedAt: 2023-04-12 02:49:04 -0400 (Wed, 12 Apr 2023) EllapsedTime: 266.2 seconds RetCode: 0 Status: OK PackageFile: EGSEA_1.27.0.tar.gz PackageFileSize: 2.024 MiB