Package: EGSEA Version: 1.27.0 Command: /home/biocbuild/bbs-3.17-bioc/R/bin/R CMD check --install=check:EGSEA.install-out.txt --library=/home/biocbuild/bbs-3.17-bioc/R/site-library --timings EGSEA_1.27.0.tar.gz StartedAt: 2023-04-12 06:03:57 -0400 (Wed, 12 Apr 2023) EndedAt: 2023-04-12 06:16:25 -0400 (Wed, 12 Apr 2023) EllapsedTime: 748.1 seconds RetCode: 1 Status: ERROR CheckDir: EGSEA.Rcheck Warnings: NA