Package: EnhancedVolcano Version: 1.17.0 Command: /home/biocbuild/bbs-3.17-bioc/R/bin/R CMD build --keep-empty-dirs --no-resave-data EnhancedVolcano StartedAt: 2023-04-11 16:25:34 -0400 (Tue, 11 Apr 2023) EndedAt: 2023-04-11 16:27:08 -0400 (Tue, 11 Apr 2023) EllapsedTime: 93.6 seconds RetCode: 0 Status: OK PackageFile: EnhancedVolcano_1.17.0.tar.gz PackageFileSize: 8.93 MiB