git_url: https://git.bioconductor.org/packages/EpiMix git_branch: devel git_last_commit: 29c1774 git_last_commit_date: 2023-04-03 21:17:37 -0400 (Mon, 03 Apr 2023) Package: EpiMix Version: 1.1.3 Maintainer: Yuanning Zheng MaintainerEmail: eric2021 at stanford.edu