Package: ExpressionAtlas Version: 1.27.0 Command: /home/biocbuild/bbs-3.17-bioc/R/bin/R CMD INSTALL ExpressionAtlas StartedAt: 2023-04-11 15:20:41 -0400 (Tue, 11 Apr 2023) EndedAt: 2023-04-11 15:21:00 -0400 (Tue, 11 Apr 2023) EllapsedTime: 19.1 seconds RetCode: 0 Status: OK