git_url: https://git.bioconductor.org/packages/FunChIP git_branch: devel git_last_commit: 532b8e4 git_last_commit_date: 2022-11-01 11:13:49 -0400 (Tue, 01 Nov 2022) Package: FunChIP Version: 1.25.0 Maintainer: Alice Parodi MaintainerEmail: alicecarla.parodi at polimi.it