Package: FuseSOM Version: 1.1.3 Command: /home/biocbuild/bbs-3.17-bioc/R/bin/R CMD build --keep-empty-dirs --no-resave-data FuseSOM StartedAt: 2023-04-11 16:33:20 -0400 (Tue, 11 Apr 2023) EndedAt: 2023-04-11 16:34:19 -0400 (Tue, 11 Apr 2023) EllapsedTime: 58.6 seconds RetCode: 0 Status: OK PackageFile: FuseSOM_1.1.3.tar.gz PackageFileSize: 2.493 MiB