Package: GBScleanR Version: 1.3.14 Command: /home/biocbuild/bbs-3.17-bioc/R/bin/R CMD build --keep-empty-dirs --no-resave-data GBScleanR StartedAt: 2023-04-12 02:52:22 -0400 (Wed, 12 Apr 2023) EndedAt: 2023-04-12 02:53:57 -0400 (Wed, 12 Apr 2023) EllapsedTime: 95.4 seconds RetCode: 0 Status: OK PackageFile: GBScleanR_1.3.14.tar.gz PackageFileSize: 1.68 MiB