Package: GBScleanR Version: 1.3.14 Command: /home/biocbuild/bbs-3.17-bioc/R/bin/R CMD INSTALL GBScleanR StartedAt: 2023-04-12 01:36:59 -0400 (Wed, 12 Apr 2023) EndedAt: 2023-04-12 01:38:24 -0400 (Wed, 12 Apr 2023) EllapsedTime: 84.2 seconds RetCode: 0 Status: OK