git_url: https://git.bioconductor.org/packages/GDSArray git_branch: devel git_last_commit: 5e7655b git_last_commit_date: 2022-11-01 11:17:29 -0400 (Tue, 01 Nov 2022) Package: GDSArray Version: 1.19.0 Maintainer: Qian Liu MaintainerEmail: qliu7 at buffalo.edu