Package: GOSim Version: 1.37.0 Command: /home/biocbuild/bbs-3.17-bioc/R/bin/R CMD build --keep-empty-dirs --no-resave-data GOSim StartedAt: 2023-04-11 16:39:57 -0400 (Tue, 11 Apr 2023) EndedAt: 2023-04-11 16:41:06 -0400 (Tue, 11 Apr 2023) EllapsedTime: 68.8 seconds RetCode: 0 Status: OK PackageFile: GOSim_1.37.0.tar.gz PackageFileSize: 425.4 KiB