Package: GRridge Version: 1.23.0 Command: /home/biocbuild/bbs-3.17-bioc/R/bin/R CMD build --keep-empty-dirs --no-resave-data GRridge StartedAt: 2023-04-12 02:58:57 -0400 (Wed, 12 Apr 2023) EndedAt: 2023-04-12 02:59:14 -0400 (Wed, 12 Apr 2023) EllapsedTime: 17.0 seconds RetCode: 0 Status: OK PackageFile: GRridge_1.23.0.tar.gz PackageFileSize: 8.878 MiB