Package: GRridge Version: 1.23.0 Command: /home/biocbuild/bbs-3.17-bioc/R/bin/R CMD check --install=check:GRridge.install-out.txt --library=/home/biocbuild/bbs-3.17-bioc/R/site-library --timings GRridge_1.23.0.tar.gz StartedAt: 2023-04-12 06:40:48 -0400 (Wed, 12 Apr 2023) EndedAt: 2023-04-12 06:43:03 -0400 (Wed, 12 Apr 2023) EllapsedTime: 134.4 seconds RetCode: 0 Status: WARNINGS CheckDir: GRridge.Rcheck Warnings: 2