Package: GRridge Version: 1.23.0 Command: /home/biocbuild/bbs-3.17-bioc/R/bin/R CMD INSTALL GRridge StartedAt: 2023-04-12 01:59:03 -0400 (Wed, 12 Apr 2023) EndedAt: 2023-04-12 01:59:16 -0400 (Wed, 12 Apr 2023) EllapsedTime: 13.6 seconds RetCode: 0 Status: OK