Package: GSVA Version: 1.47.0 Command: /home/biocbuild/bbs-3.17-bioc/R/bin/R CMD INSTALL GSVA StartedAt: 2023-04-11 15:34:56 -0400 (Tue, 11 Apr 2023) EndedAt: 2023-04-11 15:35:29 -0400 (Tue, 11 Apr 2023) EllapsedTime: 32.4 seconds RetCode: 0 Status: OK