Package: GenomicDistributions Version: 1.7.0 Command: /home/biocbuild/bbs-3.17-bioc/R/bin/R CMD check --install=check:GenomicDistributions.install-out.txt --library=/home/biocbuild/bbs-3.17-bioc/R/site-library --timings GenomicDistributions_1.7.0.tar.gz StartedAt: 2023-04-11 20:30:57 -0400 (Tue, 11 Apr 2023) EndedAt: 2023-04-11 20:34:29 -0400 (Tue, 11 Apr 2023) EllapsedTime: 212.0 seconds RetCode: 0 Status: OK CheckDir: GenomicDistributions.Rcheck Warnings: 0