Package: GenomicDistributions Version: 1.7.0 Command: /home/biocbuild/bbs-3.17-bioc/R/bin/R CMD build --keep-empty-dirs --no-resave-data GenomicDistributions StartedAt: 2023-04-12 02:54:18 -0400 (Wed, 12 Apr 2023) EndedAt: 2023-04-12 02:55:24 -0400 (Wed, 12 Apr 2023) EllapsedTime: 66.2 seconds RetCode: 0 Status: OK PackageFile: GenomicDistributions_1.7.0.tar.gz PackageFileSize: 5.679 MiB