Package: GenomicDistributions Version: 1.7.0 Command: /home/biocbuild/bbs-3.17-bioc/R/bin/R CMD INSTALL GenomicDistributions StartedAt: 2023-04-12 01:37:29 -0400 (Wed, 12 Apr 2023) EndedAt: 2023-04-12 01:37:50 -0400 (Wed, 12 Apr 2023) EllapsedTime: 20.4 seconds RetCode: 0 Status: OK