Package: GenomicFeatures Version: 1.51.4 Command: /home/biocbuild/bbs-3.17-bioc/R/bin/R CMD build --keep-empty-dirs --no-resave-data GenomicFeatures StartedAt: 2023-04-11 16:36:19 -0400 (Tue, 11 Apr 2023) EndedAt: 2023-04-11 16:37:40 -0400 (Tue, 11 Apr 2023) EllapsedTime: 80.6 seconds RetCode: 0 Status: OK PackageFile: GenomicFeatures_1.51.4.tar.gz PackageFileSize: 1.122 MiB