Package: GenomicFeatures Version: 1.51.4 Command: /home/biocbuild/bbs-3.17-bioc/R/bin/R CMD check --install=check:GenomicFeatures.install-out.txt --library=/home/biocbuild/bbs-3.17-bioc/R/site-library --timings GenomicFeatures_1.51.4.tar.gz StartedAt: 2023-04-11 20:31:01 -0400 (Tue, 11 Apr 2023) EndedAt: 2023-04-11 20:47:49 -0400 (Tue, 11 Apr 2023) EllapsedTime: 1007.3 seconds RetCode: 0 Status: WARNINGS CheckDir: GenomicFeatures.Rcheck Warnings: 1