Package: HIBAG Version: 1.35.3 Command: /home/biocbuild/bbs-3.17-bioc/R/bin/R CMD INSTALL HIBAG StartedAt: 2023-04-12 01:32:34 -0400 (Wed, 12 Apr 2023) EndedAt: 2023-04-12 01:33:08 -0400 (Wed, 12 Apr 2023) EllapsedTime: 33.6 seconds RetCode: 0 Status: OK