Package: HPAStainR Version: 1.9.0 Command: /home/biocbuild/bbs-3.17-bioc/R/bin/R CMD build --keep-empty-dirs --no-resave-data HPAStainR StartedAt: 2023-04-11 16:46:48 -0400 (Tue, 11 Apr 2023) EndedAt: 2023-04-11 16:47:16 -0400 (Tue, 11 Apr 2023) EllapsedTime: 27.5 seconds RetCode: 1 Status: ERROR PackageFile: None PackageFileSize: NA