Package: HTSeqGenie Version: 4.29.1 Command: /home/biocbuild/bbs-3.17-bioc/R/bin/R CMD check --install=check:HTSeqGenie.install-out.txt --library=/home/biocbuild/bbs-3.17-bioc/R/site-library --timings HTSeqGenie_4.29.1.tar.gz StartedAt: 2023-04-11 20:56:20 -0400 (Tue, 11 Apr 2023) EndedAt: 2023-04-11 21:06:13 -0400 (Tue, 11 Apr 2023) EllapsedTime: 593.4 seconds RetCode: 1 Status: ERROR CheckDir: HTSeqGenie.Rcheck Warnings: NA