Package: Herper Version: 1.9.0 Command: /home/biocbuild/bbs-3.17-bioc/R/bin/R CMD check --install=check:Herper.install-out.txt --library=/home/biocbuild/bbs-3.17-bioc/R/site-library --timings Herper_1.9.0.tar.gz StartedAt: 2023-04-12 06:47:14 -0400 (Wed, 12 Apr 2023) EndedAt: 2023-04-12 06:50:12 -0400 (Wed, 12 Apr 2023) EllapsedTime: 177.5 seconds RetCode: 0 Status: OK CheckDir: Herper.Rcheck Warnings: 0