Package: HilbertCurve Version: 1.29.1 Command: /home/biocbuild/bbs-3.17-bioc/R/bin/R CMD check --install=check:HilbertCurve.install-out.txt --library=/home/biocbuild/bbs-3.17-bioc/R/site-library --timings HilbertCurve_1.29.1.tar.gz StartedAt: 2023-04-11 20:54:03 -0400 (Tue, 11 Apr 2023) EndedAt: 2023-04-11 20:57:52 -0400 (Tue, 11 Apr 2023) EllapsedTime: 229.4 seconds RetCode: 0 Status: OK CheckDir: HilbertCurve.Rcheck Warnings: 0