git_url: https://git.bioconductor.org/packages/HilbertVisGUI git_branch: devel git_last_commit: a320a3b git_last_commit_date: 2022-11-01 11:04:13 -0400 (Tue, 01 Nov 2022) Package: HilbertVisGUI Version: 1.57.0 Maintainer: Simon Anders MaintainerEmail: sanders at fs.tum.de