git_url: https://git.bioconductor.org/packages/HubPub git_branch: devel git_last_commit: 616c565 git_last_commit_date: 2023-02-09 10:49:01 -0400 (Thu, 09 Feb 2023) Package: HubPub Version: 1.7.1 Maintainer: Kayla Interdonato MaintainerEmail: kayla.morrell at roswellpark.org