Package: HubPub Version: 1.7.1 Command: /home/biocbuild/bbs-3.17-bioc/R/bin/R CMD build --keep-empty-dirs --no-resave-data HubPub StartedAt: 2023-04-12 03:04:30 -0400 (Wed, 12 Apr 2023) EndedAt: 2023-04-12 03:05:08 -0400 (Wed, 12 Apr 2023) EllapsedTime: 38.2 seconds RetCode: 0 Status: OK PackageFile: HubPub_1.7.1.tar.gz PackageFileSize: 1.285 MiB