Package: ILoReg Version: 1.9.0 Command: /home/biocbuild/bbs-3.17-bioc/R/bin/R CMD build --keep-empty-dirs --no-resave-data ILoReg StartedAt: 2023-04-12 03:05:24 -0400 (Wed, 12 Apr 2023) EndedAt: 2023-04-12 03:08:27 -0400 (Wed, 12 Apr 2023) EllapsedTime: 182.8 seconds RetCode: 0 Status: OK PackageFile: ILoReg_1.9.0.tar.gz PackageFileSize: 2.506 MiB