Package: ILoReg Version: 1.9.0 Command: /home/biocbuild/bbs-3.17-bioc/R/bin/R CMD check --install=check:ILoReg.install-out.txt --library=/home/biocbuild/bbs-3.17-bioc/R/site-library --timings ILoReg_1.9.0.tar.gz StartedAt: 2023-04-12 06:54:28 -0400 (Wed, 12 Apr 2023) EndedAt: 2023-04-12 07:01:02 -0400 (Wed, 12 Apr 2023) EllapsedTime: 394.1 seconds RetCode: 1 Status: ERROR CheckDir: ILoReg.Rcheck Warnings: NA