Package: ILoReg Version: 1.9.0 Command: /home/biocbuild/bbs-3.17-bioc/R/bin/R CMD INSTALL ILoReg StartedAt: 2023-04-12 02:04:12 -0400 (Wed, 12 Apr 2023) EndedAt: 2023-04-12 02:04:46 -0400 (Wed, 12 Apr 2023) EllapsedTime: 34.0 seconds RetCode: 0 Status: OK