Package: IMPCdata Version: 1.35.0 Command: /home/biocbuild/bbs-3.17-bioc/R/bin/R CMD build --keep-empty-dirs --no-resave-data IMPCdata StartedAt: 2023-04-12 03:05:48 -0400 (Wed, 12 Apr 2023) EndedAt: 2023-04-12 03:07:13 -0400 (Wed, 12 Apr 2023) EllapsedTime: 85.4 seconds RetCode: 0 Status: OK PackageFile: IMPCdata_1.35.0.tar.gz PackageFileSize: 104.4 KiB