Package: IMPCdata Version: 1.35.0 Command: /home/biocbuild/bbs-3.17-bioc/R/bin/R CMD check --install=check:IMPCdata.install-out.txt --library=/home/biocbuild/bbs-3.17-bioc/R/site-library --timings IMPCdata_1.35.0.tar.gz StartedAt: 2023-04-12 06:55:15 -0400 (Wed, 12 Apr 2023) EndedAt: 2023-04-12 06:59:56 -0400 (Wed, 12 Apr 2023) EllapsedTime: 280.8 seconds RetCode: 0 Status: OK CheckDir: IMPCdata.Rcheck Warnings: 0