Package: IWTomics Version: 1.23.0 Command: /home/biocbuild/bbs-3.17-bioc/R/bin/R CMD check --install=check:IWTomics.install-out.txt --library=/home/biocbuild/bbs-3.17-bioc/R/site-library --timings IWTomics_1.23.0.tar.gz StartedAt: 2023-04-12 07:02:31 -0400 (Wed, 12 Apr 2023) EndedAt: 2023-04-12 07:07:50 -0400 (Wed, 12 Apr 2023) EllapsedTime: 319.0 seconds RetCode: 0 Status: WARNINGS CheckDir: IWTomics.Rcheck Warnings: 1