Package: KEGGREST Version: 1.39.0 Command: /home/biocbuild/bbs-3.17-bioc/R/bin/R CMD check --install=check:KEGGREST.install-out.txt --library=/home/biocbuild/bbs-3.17-bioc/R/site-library --timings KEGGREST_1.39.0.tar.gz StartedAt: 2023-04-12 07:03:50 -0400 (Wed, 12 Apr 2023) EndedAt: 2023-04-12 07:10:12 -0400 (Wed, 12 Apr 2023) EllapsedTime: 382.2 seconds RetCode: 0 Status: OK CheckDir: KEGGREST.Rcheck Warnings: 0