Package: KEGGlincs Version: 1.25.0 Command: /home/biocbuild/bbs-3.17-bioc/R/bin/R CMD check --install=check:KEGGlincs.install-out.txt --library=/home/biocbuild/bbs-3.17-bioc/R/site-library --timings KEGGlincs_1.25.0.tar.gz StartedAt: 2023-04-12 07:03:28 -0400 (Wed, 12 Apr 2023) EndedAt: 2023-04-12 07:08:10 -0400 (Wed, 12 Apr 2023) EllapsedTime: 281.8 seconds RetCode: 0 Status: OK CheckDir: KEGGlincs.Rcheck Warnings: 0