Package: LRBaseDbi Version: 2.9.0 Command: /home/biocbuild/bbs-3.17-bioc/R/bin/R CMD check --install=check:LRBaseDbi.install-out.txt --library=/home/biocbuild/bbs-3.17-bioc/R/site-library --timings LRBaseDbi_2.9.0.tar.gz StartedAt: 2023-04-11 21:15:09 -0400 (Tue, 11 Apr 2023) EndedAt: 2023-04-11 21:16:53 -0400 (Tue, 11 Apr 2023) EllapsedTime: 104.3 seconds RetCode: 0 Status: WARNINGS CheckDir: LRBaseDbi.Rcheck Warnings: 1