Package: MAGeCKFlute Version: 2.3.0 Command: /home/biocbuild/bbs-3.17-bioc/R/bin/R CMD build --keep-empty-dirs --no-resave-data MAGeCKFlute StartedAt: 2023-04-11 16:54:57 -0400 (Tue, 11 Apr 2023) EndedAt: 2023-04-11 16:58:26 -0400 (Tue, 11 Apr 2023) EllapsedTime: 209.9 seconds RetCode: 0 Status: OK PackageFile: MAGeCKFlute_2.3.0.tar.gz PackageFileSize: 19.26 MiB